BEGIN:VCALENDAR
VERSION:2.0
PRODID:-//Grand Rapids Area Chamber of Commerce - ECPv6.15.17.1//NONSGML v1.0//EN
CALSCALE:GREGORIAN
METHOD:PUBLISH
X-ORIGINAL-URL:https://www.grandmn.com
X-WR-CALDESC:Events for Grand Rapids Area Chamber of Commerce
REFRESH-INTERVAL;VALUE=DURATION:PT1H
X-Robots-Tag:noindex
X-PUBLISHED-TTL:PT1H
BEGIN:VTIMEZONE
TZID:America/Chicago
BEGIN:DAYLIGHT
TZOFFSETFROM:-0600
TZOFFSETTO:-0500
TZNAME:CDT
DTSTART:20230312T080000
END:DAYLIGHT
BEGIN:STANDARD
TZOFFSETFROM:-0500
TZOFFSETTO:-0600
TZNAME:CST
DTSTART:20231105T070000
END:STANDARD
BEGIN:DAYLIGHT
TZOFFSETFROM:-0600
TZOFFSETTO:-0500
TZNAME:CDT
DTSTART:20240310T080000
END:DAYLIGHT
BEGIN:STANDARD
TZOFFSETFROM:-0500
TZOFFSETTO:-0600
TZNAME:CST
DTSTART:20241103T070000
END:STANDARD
BEGIN:DAYLIGHT
TZOFFSETFROM:-0600
TZOFFSETTO:-0500
TZNAME:CDT
DTSTART:20250309T080000
END:DAYLIGHT
BEGIN:STANDARD
TZOFFSETFROM:-0500
TZOFFSETTO:-0600
TZNAME:CST
DTSTART:20251102T070000
END:STANDARD
END:VTIMEZONE
BEGIN:VEVENT
DTSTART;TZID=America/Chicago:20241113T173000
DTEND;TZID=America/Chicago:20241113T190000
DTSTAMP:20260419T080900
CREATED:20241031T171457Z
LAST-MODIFIED:20241031T171457Z
UID:2284-1731519000-1731524400@www.grandmn.com
SUMMARY:Unlock Your Business’s True Value!
DESCRIPTION:Join us for an insightful workshop where you’ll discover the essential factors that drive your business’s value and learn strategies to enhance it. Your business is more than just an income stream—it’s an asset and an investment in your future. Get the tools to maximize its worth and secure your next chapter! \n \nDate: November 13\, 2024\nLocation: GRACC Conference Room\nRSVP Now! stacia@grandmn.com
URL:https://www.grandmn.com/event/unlock-your-businesss-true-value/
LOCATION:Grand Rapids Chamber of Commerce\, 1 NW Third Ave\, Grand Rapids\, MN\, 55744
ORGANIZER;CN="Stacia":MAILTO:stacia@grandmn.com
END:VEVENT
END:VCALENDAR